BEGIN:VCALENDAR
VERSION:2.0
PRODID:-//wp-events-plugin.com//6.6.3//EN
TZID:Europe/Madrid
X-WR-TIMEZONE:Europe/Madrid
BEGIN:VEVENT
UID:338@redecultural.gal
DTSTART;TZID=Europe/Madrid:20250614T170100
DTEND;TZID=Europe/Madrid:20250614T170100
DTSTAMP:20250630T200454Z
URL:https://redecultural.gal/events/recolla-e-tradicion-no-cantar/
SUMMARY:RECOLLA E TRADICIÓN NO CANTAR
DESCRIPTION:
ATTACH;FMTTYPE=image/jpeg:https://redecultural.gal/wp-content/uploads/2025
 /06/22432888-54.jpg
LOCATION:PABILLON DE OS CALZADOS - A CAPELA\, Lugar OS CALZADOS 8\, CAPELA\
 , A\, A Coruña\, 15613\, A Coruna\, Spain
GEO:43.4542052;-8.0476062
X-APPLE-STRUCTURED-LOCATION;VALUE=URI;X-ADDRESS=Lugar OS CALZADOS 8\, CAPEL
 A\, A\, A Coruña\, 15613\, A Coruna\, Spain;X-APPLE-RADIUS=100;X-TITLE=PA
 BILLON DE OS CALZADOS - A CAPELA:geo:43.4542052,-8.0476062
END:VEVENT
BEGIN:VTIMEZONE
TZID:Europe/Madrid
X-LIC-LOCATION:Europe/Madrid
BEGIN:DAYLIGHT
DTSTART:20250330T030000
TZOFFSETFROM:+0100
TZOFFSETTO:+0200
TZNAME:CEST
END:DAYLIGHT
END:VTIMEZONE
END:VCALENDAR