BEGIN:VCALENDAR
VERSION:2.0
PRODID:-//wp-events-plugin.com//6.6.3//EN
TZID:Europe/Madrid
X-WR-TIMEZONE:Europe/Madrid
BEGIN:VEVENT
UID:43@redecultural.gal
DTSTART;TZID=Europe/Madrid:20250822T223000
DTEND;TZID=Europe/Madrid:20250822T223000
DTSTAMP:20250630T195551Z
URL:https://redecultural.gal/events/mais-cunados/
SUMMARY:MÁIS CUÑADOS
DESCRIPTION:
ATTACH;FMTTYPE=image/jpeg:https://redecultural.gal/wp-content/uploads/2025
 /06/22649656-30.jpg
LOCATION:Explanada Campo de fútbol de Arteixo\, Avenida Arsenio Iglesias\,
  ARTEIXO\, A Coruña\, 15142\, A Coruna\, Spain
GEO:43.3118291;-8.5100351
X-APPLE-STRUCTURED-LOCATION;VALUE=URI;X-ADDRESS=Avenida Arsenio Iglesias\, 
 ARTEIXO\, A Coruña\, 15142\, A Coruna\, Spain;X-APPLE-RADIUS=100;X-TITLE=
 Explanada Campo de fútbol de Arteixo:geo:43.3118291,-8.5100351
END:VEVENT
BEGIN:VTIMEZONE
TZID:Europe/Madrid
X-LIC-LOCATION:Europe/Madrid
BEGIN:DAYLIGHT
DTSTART:20250330T030000
TZOFFSETFROM:+0100
TZOFFSETTO:+0200
TZNAME:CEST
END:DAYLIGHT
END:VTIMEZONE
END:VCALENDAR