BEGIN:VCALENDAR
VERSION:2.0
PRODID:-//wp-events-plugin.com//6.6.3//EN
TZID:Europe/Madrid
X-WR-TIMEZONE:Europe/Madrid
BEGIN:VEVENT
UID:914@redecultural.gal
DTSTART;TZID=Europe/Madrid:20250509T120000
DTEND;TZID=Europe/Madrid:20250509T120000
DTSTAMP:20250630T202226Z
URL:https://redecultural.gal/events/h2-oh/
SUMMARY:H2...OH!
DESCRIPTION:
ATTACH;FMTTYPE=image/jpeg:https://redecultural.gal/wp-content/uploads/2025
 /06/22615260-46.jpg
LOCATION:AULA DE CULTURA XULIO CUNS\, Praza GALICIA 1\, BETANZOS\, A Coruñ
 a\, 15300\, A Coruna\, Spain
GEO:43.2788532;-8.2108217
X-APPLE-STRUCTURED-LOCATION;VALUE=URI;X-ADDRESS=Praza GALICIA 1\, BETANZOS\
 , A Coruña\, 15300\, A Coruna\, Spain;X-APPLE-RADIUS=100;X-TITLE=AULA DE 
 CULTURA XULIO CUNS:geo:43.2788532,-8.2108217
END:VEVENT
BEGIN:VTIMEZONE
TZID:Europe/Madrid
X-LIC-LOCATION:Europe/Madrid
BEGIN:DAYLIGHT
DTSTART:20250330T030000
TZOFFSETFROM:+0100
TZOFFSETTO:+0200
TZNAME:CEST
END:DAYLIGHT
END:VTIMEZONE
END:VCALENDAR