BEGIN:VCALENDAR
VERSION:2.0
PRODID:-//wp-events-plugin.com//6.6.3//EN
TZID:Europe/Madrid
X-WR-TIMEZONE:Europe/Madrid
BEGIN:VEVENT
UID:119@redecultural.gal
DTSTART;TZID=Europe/Madrid:20250531T120000
DTEND;TZID=Europe/Madrid:20250531T120000
DTSTAMP:20250630T195754Z
URL:https://redecultural.gal/events/doctor-snob-en-concierto/
SUMMARY:Doctor Snob en concierto
DESCRIPTION:
ATTACH;FMTTYPE=image/jpeg:https://redecultural.gal/wp-content/uploads/2025
 /06/22437782-10.jpg
LOCATION:Rúa Sebastían López (Asociación de veciños de Carnoedo Arment
 al)\, Lugar TAIBO 8\, SADA\, A Coruña\, 15169\, A Coruna\, Spain
GEO:43.3696011;-8.2709191
X-APPLE-STRUCTURED-LOCATION;VALUE=URI;X-ADDRESS=Lugar TAIBO 8\, SADA\, A Co
 ruña\, 15169\, A Coruna\, Spain;X-APPLE-RADIUS=100;X-TITLE=Rúa Sebastía
 n López (Asociación de veciños de Carnoedo Armental):geo:43.3696011,-8.
 2709191
END:VEVENT
BEGIN:VTIMEZONE
TZID:Europe/Madrid
X-LIC-LOCATION:Europe/Madrid
BEGIN:DAYLIGHT
DTSTART:20250330T030000
TZOFFSETFROM:+0100
TZOFFSETTO:+0200
TZNAME:CEST
END:DAYLIGHT
END:VTIMEZONE
END:VCALENDAR