BEGIN:VCALENDAR
VERSION:2.0
PRODID:-//wp-events-plugin.com//6.6.3//EN
TZID:Europe/Madrid
X-WR-TIMEZONE:Europe/Madrid
BEGIN:VEVENT
UID:497@redecultural.gal
DTSTART;TZID=Europe/Madrid:20250808T130000
DTEND;TZID=Europe/Madrid:20250808T130000
DTSTAMP:20250630T200953Z
URL:https://redecultural.gal/events/concerto-coa-banda-de-visantona-3/
SUMMARY:Concerto coa Banda de Visantoña
DESCRIPTION:
ATTACH;FMTTYPE=image/jpeg:https://redecultural.gal/wp-content/uploads/2025
 /06/22669163-29.jpg
LOCATION:CAMPO DA FESTA DE POUSADA\, Explanada capo da festa pousada de aba
 ixo 1\, SOBRADO\, A Coruña\, 15813\, A Coruna\, Spain
X-APPLE-STRUCTURED-LOCATION;VALUE=URI;X-ADDRESS=Explanada capo da festa pou
 sada de abaixo 1\, SOBRADO\, A Coruña\, 15813\, A Coruna\, Spain;X-APPLE-
 RADIUS=100;X-TITLE=CAMPO DA FESTA DE POUSADA:geo:0,0
END:VEVENT
BEGIN:VTIMEZONE
TZID:Europe/Madrid
X-LIC-LOCATION:Europe/Madrid
BEGIN:DAYLIGHT
DTSTART:20250330T030000
TZOFFSETFROM:+0100
TZOFFSETTO:+0200
TZNAME:CEST
END:DAYLIGHT
END:VTIMEZONE
END:VCALENDAR